BEGIN:VCALENDAR
VERSION:2.0
PRODID:-//De Scheepsjoagers - ECPv6.15.18//NONSGML v1.0//EN
CALSCALE:GREGORIAN
METHOD:PUBLISH
X-ORIGINAL-URL:https://scheepsjoagers.nl
X-WR-CALDESC:Evenementen voor De Scheepsjoagers
REFRESH-INTERVAL;VALUE=DURATION:PT1H
X-Robots-Tag:noindex
X-PUBLISHED-TTL:PT1H
BEGIN:VTIMEZONE
TZID:UTC
BEGIN:STANDARD
TZOFFSETFROM:+0000
TZOFFSETTO:+0000
TZNAME:UTC
DTSTART:20220101T000000
END:STANDARD
END:VTIMEZONE
BEGIN:VEVENT
DTSTART;TZID=UTC:20230915T190000
DTEND;TZID=UTC:20230915T210000
DTSTAMP:20260419T161134
CREATED:20230822T213929Z
LAST-MODIFIED:20230822T214150Z
UID:2456-1694804400-1694811600@scheepsjoagers.nl
SUMMARY:Wildervank in de Muziekkoepel
DESCRIPTION:
URL:https://scheepsjoagers.nl/agenda/wildervank-in-de-muziekkoepel/
LOCATION:Muziekkoepel Wildervank\, Plantsoenlaan 6\, Wildervank\, Groningen\, 9648 LE\, Nederland
END:VEVENT
END:VCALENDAR