BEGIN:VCALENDAR
VERSION:2.0
PRODID:-//De Scheepsjoagers - ECPv6.15.18//NONSGML v1.0//EN
CALSCALE:GREGORIAN
METHOD:PUBLISH
X-WR-CALNAME:De Scheepsjoagers
X-ORIGINAL-URL:https://scheepsjoagers.nl
X-WR-CALDESC:Evenementen voor De Scheepsjoagers
REFRESH-INTERVAL;VALUE=DURATION:PT1H
X-Robots-Tag:noindex
X-PUBLISHED-TTL:PT1H
BEGIN:VTIMEZONE
TZID:UTC
BEGIN:STANDARD
TZOFFSETFROM:+0000
TZOFFSETTO:+0000
TZNAME:UTC
DTSTART:20230101T000000
END:STANDARD
END:VTIMEZONE
BEGIN:VEVENT
DTSTART;TZID=UTC:20240127T140000
DTEND;TZID=UTC:20240127T143000
DTSTAMP:20260421T100433
CREATED:20231009T161117Z
LAST-MODIFIED:20231009T161117Z
UID:2528-1706364000-1706365800@scheepsjoagers.nl
SUMMARY:Highlights Van Beresteyn
DESCRIPTION:
URL:https://scheepsjoagers.nl/agenda/highlights-van-beresteyn/
LOCATION:Van Beresteyn\, Museumplein 5a\,\, Veendam\, Groningen\, 9641 AD\, Nederland
END:VEVENT
END:VCALENDAR