BEGIN:VCALENDAR
VERSION:2.0
PRODID:-//De Scheepsjoagers - ECPv6.15.18//NONSGML v1.0//EN
CALSCALE:GREGORIAN
METHOD:PUBLISH
X-WR-CALNAME:De Scheepsjoagers
X-ORIGINAL-URL:https://scheepsjoagers.nl
X-WR-CALDESC:Evenementen voor De Scheepsjoagers
REFRESH-INTERVAL;VALUE=DURATION:PT1H
X-Robots-Tag:noindex
X-PUBLISHED-TTL:PT1H
BEGIN:VTIMEZONE
TZID:UTC
BEGIN:STANDARD
TZOFFSETFROM:+0000
TZOFFSETTO:+0000
TZNAME:UTC
DTSTART:20220101T000000
END:STANDARD
END:VTIMEZONE
BEGIN:VEVENT
DTSTART;TZID=UTC:20231125T193000
DTEND;TZID=UTC:20231125T193000
DTSTAMP:20260420T130014
CREATED:20231009T160918Z
LAST-MODIFIED:20231009T160918Z
UID:2526-1700940600-1700940600@scheepsjoagers.nl
SUMMARY:Contactavond oude stijl
DESCRIPTION:
URL:https://scheepsjoagers.nl/agenda/contactavond-oude-stijl/
LOCATION:Menterne\, Julianaplein 1\, Muntendam\, Groningen\, 9649 BX\, Nederland
END:VEVENT
END:VCALENDAR