BEGIN:VCALENDAR
VERSION:2.0
PRODID:-//De Scheepsjoagers - ECPv6.15.18//NONSGML v1.0//EN
CALSCALE:GREGORIAN
METHOD:PUBLISH
X-WR-CALNAME:De Scheepsjoagers
X-ORIGINAL-URL:https://scheepsjoagers.nl
X-WR-CALDESC:Evenementen voor De Scheepsjoagers
REFRESH-INTERVAL;VALUE=DURATION:PT1H
X-Robots-Tag:noindex
X-PUBLISHED-TTL:PT1H
BEGIN:VTIMEZONE
TZID:UTC
BEGIN:STANDARD
TZOFFSETFROM:+0000
TZOFFSETTO:+0000
TZNAME:UTC
DTSTART:20220101T000000
END:STANDARD
END:VTIMEZONE
BEGIN:VEVENT
DTSTART;TZID=UTC:20260418T193000
DTEND;TZID=UTC:20260418T230000
DTSTAMP:20260423T105632
CREATED:20260119T161337Z
LAST-MODIFIED:20260119T161337Z
UID:3726-1776540600-1776553200@scheepsjoagers.nl
SUMMARY:Donateurconcert
DESCRIPTION:
URL:https://scheepsjoagers.nl/agenda/donateurconcert/
LOCATION:De Menterne
END:VEVENT
BEGIN:VEVENT
DTSTART;TZID=UTC:20260416T143000
DTEND;TZID=UTC:20260416T160000
DTSTAMP:20260423T105632
CREATED:20260224T162439Z
LAST-MODIFIED:20260224T162507Z
UID:3778-1776349800-1776355200@scheepsjoagers.nl
SUMMARY:De Vijverhof Assen
DESCRIPTION:
URL:https://scheepsjoagers.nl/agenda/de-viverhof-assen/
END:VEVENT
BEGIN:VEVENT
DTSTART;TZID=UTC:20260325T193000
DTEND;TZID=UTC:20260325T220000
DTSTAMP:20260423T105632
CREATED:20260224T162043Z
LAST-MODIFIED:20260224T162043Z
UID:3774-1774467000-1774476000@scheepsjoagers.nl
SUMMARY:Parkflat Veendam
DESCRIPTION:
URL:https://scheepsjoagers.nl/agenda/parkflat-veendam/
END:VEVENT
BEGIN:VEVENT
DTSTART;TZID=UTC:20260307T193000
DTEND;TZID=UTC:20260307T223000
DTSTAMP:20260423T105632
CREATED:20251213T132403Z
LAST-MODIFIED:20251213T132403Z
UID:3651-1772911800-1772922600@scheepsjoagers.nl
SUMMARY:MHC cultuurcentrum
DESCRIPTION:
URL:https://scheepsjoagers.nl/agenda/mhc-cultuurcentrum/
LOCATION:MHC Cultuurcentrum\, Wildervank
END:VEVENT
BEGIN:VEVENT
DTSTART;TZID=UTC:20260304T193000
DTEND;TZID=UTC:20260304T220000
DTSTAMP:20260423T105632
CREATED:20260119T160717Z
LAST-MODIFIED:20260119T160717Z
UID:3722-1772652600-1772661600@scheepsjoagers.nl
SUMMARY:ALV
DESCRIPTION:Algemene Ledenvergadering
URL:https://scheepsjoagers.nl/agenda/alv-2/
LOCATION:De Menterne
END:VEVENT
BEGIN:VEVENT
DTSTART;TZID=UTC:20260214T140000
DTEND;TZID=UTC:20260214T163000
DTSTAMP:20260423T105632
CREATED:20250530T095128Z
LAST-MODIFIED:20250530T095128Z
UID:3416-1771077600-1771086600@scheepsjoagers.nl
SUMMARY:Alteveer Zonnebloem
DESCRIPTION:
URL:https://scheepsjoagers.nl/agenda/alteveer-zonnebloem/
END:VEVENT
BEGIN:VEVENT
DTSTART;TZID=UTC:20251221T103000
DTEND;TZID=UTC:20251221T130000
DTSTAMP:20260423T105632
CREATED:20250530T095511Z
LAST-MODIFIED:20250530T095511Z
UID:3418-1766313000-1766322000@scheepsjoagers.nl
SUMMARY:Kerstconcert De Menterne
DESCRIPTION:
URL:https://scheepsjoagers.nl/agenda/kerstconcert-de-menterne/
END:VEVENT
BEGIN:VEVENT
DTSTART;TZID=UTC:20251218T143000
DTEND;TZID=UTC:20251218T161500
DTSTAMP:20260423T105632
CREATED:20250530T094927Z
LAST-MODIFIED:20250530T094927Z
UID:3414-1766068200-1766074500@scheepsjoagers.nl
SUMMARY:Breehorn Veendam
DESCRIPTION:
URL:https://scheepsjoagers.nl/agenda/breehorn-veendam-3/
END:VEVENT
BEGIN:VEVENT
DTSTART;TZID=UTC:20251212T193000
DTEND;TZID=UTC:20251212T223000
DTSTAMP:20260423T105632
CREATED:20250530T094802Z
LAST-MODIFIED:20250530T094802Z
UID:3412-1765567800-1765578600@scheepsjoagers.nl
SUMMARY:Reensche Compagnie Hoogezand
DESCRIPTION:
URL:https://scheepsjoagers.nl/agenda/reensche-compagnie-hoogezand/
END:VEVENT
BEGIN:VEVENT
DTSTART;TZID=UTC:20251209T143000
DTEND;TZID=UTC:20251209T163000
DTSTAMP:20260423T105632
CREATED:20250530T094630Z
LAST-MODIFIED:20250530T094630Z
UID:3410-1765290600-1765297800@scheepsjoagers.nl
SUMMARY:Veenkade Veendam
DESCRIPTION:
URL:https://scheepsjoagers.nl/agenda/veenkade-veendam/
END:VEVENT
BEGIN:VEVENT
DTSTART;TZID=UTC:20251126T143000
DTEND;TZID=UTC:20251126T163000
DTSTAMP:20260423T105632
CREATED:20250707T115018Z
LAST-MODIFIED:20250707T115058Z
UID:3454-1764167400-1764174600@scheepsjoagers.nl
SUMMARY:AG Wildervanckuis
DESCRIPTION:
URL:https://scheepsjoagers.nl/agenda/ag-wildervanckuis/
LOCATION:AG Wildervankhuis\, Veendam
END:VEVENT
BEGIN:VEVENT
DTSTART;TZID=UTC:20251028T140000
DTEND;TZID=UTC:20251028T160000
DTSTAMP:20260423T105632
CREATED:20250530T094404Z
LAST-MODIFIED:20250707T114536Z
UID:3408-1761660000-1761667200@scheepsjoagers.nl
SUMMARY:St . Jozef Sappemeer
DESCRIPTION:
URL:https://scheepsjoagers.nl/agenda/st-jozef-sappemeer/
LOCATION:Sint Jozef  Sappemeer
END:VEVENT
BEGIN:VEVENT
DTSTART;TZID=UTC:20251001T110000
DTEND;TZID=UTC:20251001T160000
DTSTAMP:20260423T105632
CREATED:20250901T142015Z
LAST-MODIFIED:20250901T142015Z
UID:3498-1759316400-1759334400@scheepsjoagers.nl
SUMMARY:Slochter markt
DESCRIPTION:
URL:https://scheepsjoagers.nl/agenda/slochter-markt/
LOCATION:Hoofdstraat\, Nederland
END:VEVENT
BEGIN:VEVENT
DTSTART;TZID=UTC:20250315T193000
DTEND;TZID=UTC:20250315T230000
DTSTAMP:20260423T105632
CREATED:20241206T135824Z
LAST-MODIFIED:20241206T141727Z
UID:3124-1742067000-1742079600@scheepsjoagers.nl
SUMMARY:Kaarten en sjoelen
DESCRIPTION:In de Menterne
URL:https://scheepsjoagers.nl/agenda/kaarten-en-sjoelen-alleen-voor-leden-en-partners/
END:VEVENT
BEGIN:VEVENT
DTSTART;TZID=UTC:20250125T140000
DTEND;TZID=UTC:20250125T143000
DTSTAMP:20260423T105632
CREATED:20241206T135519Z
LAST-MODIFIED:20241206T135519Z
UID:3120-1737813600-1737815400@scheepsjoagers.nl
SUMMARY:Highlights
DESCRIPTION:Van Beresteyn Veendam
URL:https://scheepsjoagers.nl/agenda/highlights/
END:VEVENT
BEGIN:VEVENT
DTSTART;TZID=UTC:20250113T210000
DTEND;TZID=UTC:20250113T223000
DTSTAMP:20260423T105632
CREATED:20241206T135700Z
LAST-MODIFIED:20241206T135700Z
UID:3122-1736802000-1736807400@scheepsjoagers.nl
SUMMARY:Nieuwjaarsreceptie
DESCRIPTION:Alleen voor leden en partners
URL:https://scheepsjoagers.nl/agenda/nieuwjaarsreceptie/
END:VEVENT
BEGIN:VEVENT
DTSTART;VALUE=DATE:20241222
DTEND;VALUE=DATE:20241223
DTSTAMP:20260423T105632
CREATED:20241017T213104Z
LAST-MODIFIED:20241017T213647Z
UID:3086-1734825600-1734911999@scheepsjoagers.nl
SUMMARY:Jubileum kerstconcert
DESCRIPTION:Zondag 22 december a.s. is ons jaarlijks kerstconcert. \nDit jaar is het voor de 30e keer. Een mijlpaal. Om dit jubileum niet ongemerkt voorbij te laten gaan\, is er een speciaal programma opgesteld. Dit jaar zult u geen Shanty’s horen\, maar alleen liederen in het teken van Kerst. Er zullen zowel Nederlandse als Duitse en Engelse liederen te horen zijn. Een heel gevarieerd programma dus. \nHet koor is al vanaf begin september bezig met instuderen van de diverse liederen. Ook zal er een verrassend optreden van ons combo (the Shiphunters) te horen zijn. Wat zij gaan doen verklappen we natuurlijk niet\, maar kom langs op zondag 22 december en laat u verrassen. Houd ook de Sociale Media in de gaten en volg ook onze Facebook pagina voor de vorderingen. \nDus kom op 22 december om 10.30 uur (zaal open vanaf 9.45 uur) naar het dorpshuis de Menterne en geniet van dit jubileumconcert.
URL:https://scheepsjoagers.nl/agenda/jubileum-kerstconcert/
LOCATION:Menterne\, Julianaplein 1\, Muntendam\, Groningen\, 9649 BX\, Nederland
ATTACH;FMTTYPE=image/jpeg:https://scheepsjoagers.nl/wp-content/uploads/2024/10/Poster-Scheepsjoagers-kerst-2024-A4.jpg
END:VEVENT
BEGIN:VEVENT
DTSTART;TZID=UTC:20241219T143000
DTEND;TZID=UTC:20241219T163000
DTSTAMP:20260423T105632
CREATED:20241206T135315Z
LAST-MODIFIED:20241206T140008Z
UID:3118-1734618600-1734625800@scheepsjoagers.nl
SUMMARY:De Breehorn Veendam
DESCRIPTION:Besloten optreden
URL:https://scheepsjoagers.nl/agenda/de-breehorn-veendam/
LOCATION:De Breehorn\, Boven Westerdiep 86H\, Veendam\, Groningen\, 9641 LK\, Nederland
END:VEVENT
BEGIN:VEVENT
DTSTART;TZID=UTC:20241213T193000
DTEND;TZID=UTC:20241213T223000
DTSTAMP:20260423T105632
CREATED:20241206T135046Z
LAST-MODIFIED:20241206T135046Z
UID:3116-1734118200-1734129000@scheepsjoagers.nl
SUMMARY:De Reensche Compagnie
DESCRIPTION:
URL:https://scheepsjoagers.nl/agenda/de-reensche-compagnie/
LOCATION:Reensche Compagnie\, Tak van Poortvlietstraat 361\, Hoogezand\, Groningen\, 9602 PJ\, Nederland
END:VEVENT
BEGIN:VEVENT
DTSTART;TZID=UTC:20240406T193000
DTEND;TZID=UTC:20240406T230000
DTSTAMP:20260423T105632
CREATED:20240117T194421Z
LAST-MODIFIED:20240117T194421Z
UID:2745-1712431800-1712444400@scheepsjoagers.nl
SUMMARY:Donateursconcert
DESCRIPTION:
URL:https://scheepsjoagers.nl/agenda/donateursconcert-2/
LOCATION:Menterne\, Julianaplein 1\, Muntendam\, Groningen\, 9649 BX\, Nederland
END:VEVENT
BEGIN:VEVENT
DTSTART;TZID=UTC:20240306T193000
DTEND;TZID=UTC:20240306T210000
DTSTAMP:20260423T105632
CREATED:20240117T180500Z
LAST-MODIFIED:20240117T180500Z
UID:2743-1709753400-1709758800@scheepsjoagers.nl
SUMMARY:ALV
DESCRIPTION:
URL:https://scheepsjoagers.nl/agenda/alv/
LOCATION:Menterne\, Julianaplein 1\, Muntendam\, Groningen\, 9649 BX\, Nederland
END:VEVENT
BEGIN:VEVENT
DTSTART;TZID=UTC:20240127T140000
DTEND;TZID=UTC:20240127T143000
DTSTAMP:20260423T105632
CREATED:20231009T161117Z
LAST-MODIFIED:20231009T161117Z
UID:2528-1706364000-1706365800@scheepsjoagers.nl
SUMMARY:Highlights Van Beresteyn
DESCRIPTION:
URL:https://scheepsjoagers.nl/agenda/highlights-van-beresteyn/
LOCATION:Van Beresteyn\, Museumplein 5a\,\, Veendam\, Groningen\, 9641 AD\, Nederland
END:VEVENT
BEGIN:VEVENT
DTSTART;TZID=UTC:20240118T143000
DTEND;TZID=UTC:20240118T161500
DTSTAMP:20260423T105632
CREATED:20240117T174631Z
LAST-MODIFIED:20240117T174631Z
UID:2741-1705588200-1705594500@scheepsjoagers.nl
SUMMARY:De Breehorn
DESCRIPTION:
URL:https://scheepsjoagers.nl/agenda/de-breehorn/
LOCATION:De Breehorn\, Boven Westerdiep 86H\, Veendam\, Groningen\, 9641 LK\, Nederland
END:VEVENT
BEGIN:VEVENT
DTSTART;TZID=UTC:20231221T200000
DTEND;TZID=UTC:20231221T200000
DTSTAMP:20260423T105632
CREATED:20230209T154553Z
LAST-MODIFIED:20230209T154553Z
UID:1661-1703188800-1703188800@scheepsjoagers.nl
SUMMARY:Optreden Van Beresteyn
DESCRIPTION:
URL:https://scheepsjoagers.nl/agenda/optreden-van-beresteyn/
LOCATION:Van Beresteyn\, Museumplein 5a\,\, Veendam\, Groningen\, 9641 AD\, Nederland
END:VEVENT
BEGIN:VEVENT
DTSTART;TZID=UTC:20231217T103000
DTEND;TZID=UTC:20231217T103000
DTSTAMP:20260423T105632
CREATED:20230209T154438Z
LAST-MODIFIED:20230209T154438Z
UID:1659-1702809000-1702809000@scheepsjoagers.nl
SUMMARY:Kerstconcert
DESCRIPTION:
URL:https://scheepsjoagers.nl/agenda/kerstconcert/
LOCATION:Menterne\, Julianaplein 1\, Muntendam\, Groningen\, 9649 BX\, Nederland
END:VEVENT
BEGIN:VEVENT
DTSTART;TZID=UTC:20231215T193000
DTEND;TZID=UTC:20231215T223000
DTSTAMP:20260423T105632
CREATED:20230404T114939Z
LAST-MODIFIED:20230502T201248Z
UID:2170-1702668600-1702679400@scheepsjoagers.nl
SUMMARY:Reensche Compagnie (besloten optreden)
DESCRIPTION:Besloten optreden
URL:https://scheepsjoagers.nl/agenda/reensche-compagnie/
LOCATION:Reensche Compagnie\, Tak van Poortvlietstraat 361\, Hoogezand\, Groningen\, 9602 PJ\, Nederland
END:VEVENT
BEGIN:VEVENT
DTSTART;TZID=UTC:20231125T193000
DTEND;TZID=UTC:20231125T193000
DTSTAMP:20260423T105632
CREATED:20231009T160918Z
LAST-MODIFIED:20231009T160918Z
UID:2526-1700940600-1700940600@scheepsjoagers.nl
SUMMARY:Contactavond oude stijl
DESCRIPTION:
URL:https://scheepsjoagers.nl/agenda/contactavond-oude-stijl/
LOCATION:Menterne\, Julianaplein 1\, Muntendam\, Groningen\, 9649 BX\, Nederland
END:VEVENT
BEGIN:VEVENT
DTSTART;TZID=UTC:20231101T193000
DTEND;TZID=UTC:20231101T193000
DTSTAMP:20260423T105632
CREATED:20231009T160603Z
LAST-MODIFIED:20231009T160603Z
UID:2523-1698867000-1698867000@scheepsjoagers.nl
SUMMARY:Algemene ledenvergadering in de Menterne
DESCRIPTION:
URL:https://scheepsjoagers.nl/agenda/algemene-ledenvergadering-in-de-menterne/
LOCATION:Menterne\, Julianaplein 1\, Muntendam\, Groningen\, 9649 BX\, Nederland
END:VEVENT
BEGIN:VEVENT
DTSTART;TZID=UTC:20231015T150000
DTEND;TZID=UTC:20231015T163000
DTSTAMP:20260423T105632
CREATED:20230227T133104Z
LAST-MODIFIED:20230502T201216Z
UID:1673-1697382000-1697387400@scheepsjoagers.nl
SUMMARY:Optreden Maartenshof (besloten optreden)
DESCRIPTION:Besloten optreden
URL:https://scheepsjoagers.nl/agenda/optreden-maartenshof/
LOCATION:Groningen\, Groningen\, Groningen\, Nederland
END:VEVENT
BEGIN:VEVENT
DTSTART;VALUE=DATE:20231007
DTEND;VALUE=DATE:20231008
DTSTAMP:20260423T105632
CREATED:20230502T201444Z
LAST-MODIFIED:20230918T103029Z
UID:2338-1696636800-1696723199@scheepsjoagers.nl
SUMMARY:Jubileumconcert Nico Dijkman
DESCRIPTION:
URL:https://scheepsjoagers.nl/agenda/jubileum-nico/
LOCATION:Menterne\, Julianaplein 1\, Muntendam\, Groningen\, 9649 BX\, Nederland
END:VEVENT
END:VCALENDAR