BEGIN:VCALENDAR
VERSION:2.0
PRODID:-//De Scheepsjoagers - ECPv6.15.18//NONSGML v1.0//EN
CALSCALE:GREGORIAN
METHOD:PUBLISH
X-WR-CALNAME:De Scheepsjoagers
X-ORIGINAL-URL:https://scheepsjoagers.nl
X-WR-CALDESC:Evenementen voor De Scheepsjoagers
REFRESH-INTERVAL;VALUE=DURATION:PT1H
X-Robots-Tag:noindex
X-PUBLISHED-TTL:PT1H
BEGIN:VTIMEZONE
TZID:UTC
BEGIN:STANDARD
TZOFFSETFROM:+0000
TZOFFSETTO:+0000
TZNAME:UTC
DTSTART:20250101T000000
END:STANDARD
END:VTIMEZONE
BEGIN:VEVENT
DTSTART;TZID=UTC:20260516T080000
DTEND;TZID=UTC:20260516T170000
DTSTAMP:20260421T082828
CREATED:20260119T161539Z
LAST-MODIFIED:20260119T161539Z
UID:3728-1778918400-1778950800@scheepsjoagers.nl
SUMMARY:100 jaar vv Muntendam
DESCRIPTION:
URL:https://scheepsjoagers.nl/agenda/100-jaar-vv-muntendam/
LOCATION:sportpark vv Muntendam
END:VEVENT
BEGIN:VEVENT
DTSTART;TZID=UTC:20260820T143000
DTEND;TZID=UTC:20260820T160000
DTSTAMP:20260421T082828
CREATED:20260119T161722Z
LAST-MODIFIED:20260119T161722Z
UID:3731-1787236200-1787241600@scheepsjoagers.nl
SUMMARY:De Breehorn Veendam
DESCRIPTION:
URL:https://scheepsjoagers.nl/agenda/de-breehorn-veendam-2/
LOCATION:De Breehorn\, Boven Westerdiep 86H\, Veendam\, Groningen\, 9641 LK\, Nederland
END:VEVENT
BEGIN:VEVENT
DTSTART;TZID=UTC:20260823T110000
DTEND;TZID=UTC:20260823T170000
DTSTAMP:20260421T082828
CREATED:20260119T161925Z
LAST-MODIFIED:20260119T161925Z
UID:3733-1787482800-1787504400@scheepsjoagers.nl
SUMMARY:Emmercompascuum
DESCRIPTION:Festival met de Rundezangers
URL:https://scheepsjoagers.nl/agenda/emmercompascuum/
END:VEVENT
BEGIN:VEVENT
DTSTART;VALUE=DATE:20260912
DTEND;VALUE=DATE:20260913
DTSTAMP:20260421T082828
CREATED:20260224T162802Z
LAST-MODIFIED:20260224T162802Z
UID:3781-1789171200-1789257599@scheepsjoagers.nl
SUMMARY:Shanty festival Emmen
DESCRIPTION:
URL:https://scheepsjoagers.nl/agenda/shanty-festival-emmen/
LOCATION:Emmen Centrum
END:VEVENT
BEGIN:VEVENT
DTSTART;VALUE=DATE:20261007
DTEND;VALUE=DATE:20261210
DTSTAMP:20260421T082828
CREATED:20260224T162956Z
LAST-MODIFIED:20260224T162956Z
UID:3784-1791331200-1796860799@scheepsjoagers.nl
SUMMARY:Slochter jaarmarkt
DESCRIPTION:
URL:https://scheepsjoagers.nl/agenda/slochter-jaarmarkt/
END:VEVENT
BEGIN:VEVENT
DTSTART;VALUE=DATE:20261011
DTEND;VALUE=DATE:20261012
DTSTAMP:20260421T082828
CREATED:20250912T124040Z
LAST-MODIFIED:20250912T124040Z
UID:3505-1791676800-1791763199@scheepsjoagers.nl
SUMMARY:Stade (Dld) shantyfestival
DESCRIPTION:
URL:https://scheepsjoagers.nl/agenda/stade-dld-shantyfestival/
LOCATION:Stade (Dld)
END:VEVENT
BEGIN:VEVENT
DTSTART;TZID=UTC:20261104T193000
DTEND;TZID=UTC:20261104T230000
DTSTAMP:20260421T082828
CREATED:20260224T163215Z
LAST-MODIFIED:20260224T163215Z
UID:3786-1793820600-1793833200@scheepsjoagers.nl
SUMMARY:ALV
DESCRIPTION:
URL:https://scheepsjoagers.nl/agenda/alv-4/
END:VEVENT
BEGIN:VEVENT
DTSTART;TZID=UTC:20261211T193000
DTEND;TZID=UTC:20261211T223000
DTSTAMP:20260421T082828
CREATED:20260224T164006Z
LAST-MODIFIED:20260224T164006Z
UID:3788-1797017400-1797028200@scheepsjoagers.nl
SUMMARY:Reensche Compagnie Kerst optreden
DESCRIPTION:
URL:https://scheepsjoagers.nl/agenda/reensche-compagnie-kerst-optreden/
END:VEVENT
BEGIN:VEVENT
DTSTART;TZID=UTC:20261217T143000
DTEND;TZID=UTC:20261217T160000
DTSTAMP:20260421T082828
CREATED:20260119T162257Z
LAST-MODIFIED:20260119T162257Z
UID:3737-1797517800-1797523200@scheepsjoagers.nl
SUMMARY:De Breehorn
DESCRIPTION:Kerst optreden de Breehorn
URL:https://scheepsjoagers.nl/agenda/de-breehorn-2/
LOCATION:De Breehorn\, Boven Westerdiep 86H\, Veendam\, Groningen\, 9641 LK\, Nederland
END:VEVENT
BEGIN:VEVENT
DTSTART;TZID=UTC:20261220T093000
DTEND;TZID=UTC:20261220T130000
DTSTAMP:20260421T082828
CREATED:20260119T162422Z
LAST-MODIFIED:20260119T162422Z
UID:3739-1797759000-1797771600@scheepsjoagers.nl
SUMMARY:Kerstconcert
DESCRIPTION:
URL:https://scheepsjoagers.nl/agenda/kerstconcert-2/
LOCATION:De Menterne
END:VEVENT
END:VCALENDAR